BEGIN:VCALENDAR
VERSION:2.0
PRODID:-//ChamberMaster//Event Calendar 2.0//EN
METHOD:PUBLISH
X-PUBLISHED-TTL:P3D
REFRESH-INTERVAL:P3D
CALSCALE:GREGORIAN
BEGIN:VEVENT
DTSTART:20241108T220000Z
DTEND:20241109T020000Z
X-MICROSOFT-CDO-ALLDAYEVENT:FALSE
SUMMARY:After Awareness Casino Night Fundraiser
DESCRIPTION:Legal abuse is rapid\, and we need to fight for survivors.  We are looking forward to seeing you at our upcoming Casino Night Fundraiser!   This is our 2nd Annual and we are excited to share what we have been up to for the last year.\n\n\n\nLink to register: https://www.zeffy.com/en-US/ticketing/1b7b5a2f-0b93-4292-ae35-e1da4dc50919  \n\n\n\nSpecial instructions for parking: Park\, do not scan the barcode to park\, just write down your license plate # and upon check to our event we will register you for free parking. \n\n\n\nIf you have any friends that can join you\, please share and be sure they register.  If you know anyone willing to support our event through our raffle and can not make the event please share our raffle ($500 value -do not need to be present to win) link: https://www.zeffy.com/en-US/ticketing/c260bcf6-f6ed-4865-bc63-ac1ccfe52ddc\n\n\n\nAnyone that may consider sponsoring our event - Here is the link. https://www.zeffy.com/ticketing/abba6e56-ef2f-4c1c-a8e8-25f163299ff0
X-ALT-DESC;FMTTYPE=text/html:<p><span style="font-size:20px\;"><span style="font-family:arial\;"><span font-size:="" new="" style="color: rgb(0\, 0\, 0)\; font-family: " times="">Legal abuse is rapid\, and we need to fight for survivors.&nbsp\; We are looking forward to seeing you at our upcoming Casino Night Fundraiser!&nbsp\; &nbsp\;</span>This is our 2nd Annual and we are excited to share what we have been up to for the last year.<br />\n<br />\n<span color:="" data-olk-copy-source="MessageBody" font-feature-settings:="" font-kerning:="" font-optical-sizing:="" font-size-adjust:="" font-variation-settings:="" margin:="" new="" padding:="" style="border: 0px\; font-variant-numeric: inherit\; font-variant-east-asian: inherit\; font-variant-alternates: inherit\; font-variant-position: inherit\; font-stretch: inherit\; line-height: inherit\;" times="" vertical-align:="">Link to register:&nbsp\;</span><a data-auth="NotApplicable" data-linkindex="0" font-feature-settings:="" font-kerning:="" font-optical-sizing:="" font-size-adjust:="" font-variation-settings:="" href="https://www.zeffy.com/en-US/ticketing/1b7b5a2f-0b93-4292-ae35-e1da4dc50919" margin:="" new="" padding:="" style="border: 0px\; font-variant-numeric: inherit\; font-variant-east-asian: inherit\; font-variant-alternates: inherit\; font-variant-position: inherit\; font-stretch: inherit\; font-size: medium\; line-height: inherit\; font-family: " times="" vertical-align:="">https://www.zeffy.com/en-US/ticketing/1b7b5a2f-0b93-4292-ae35-e1da4dc50919</a><span color:="" font-feature-settings:="" font-kerning:="" font-optical-sizing:="" font-size-adjust:="" font-variation-settings:="" margin:="" new="" padding:="" style="border: 0px\; font-variant-numeric: inherit\; font-variant-east-asian: inherit\; font-variant-alternates: inherit\; font-variant-position: inherit\; font-stretch: inherit\; line-height: inherit\;" times="" vertical-align:="">&nbsp\;&nbsp\;</span><br font-size:="" new="" style="color: rgb(0\, 0\, 0)\; font-family: " times="" />\n<br font-size:="" new="" style="color: rgb(0\, 0\, 0)\; font-family: " times="" />\n<strong font-size:="" new="" style="color: rgb(0\, 0\, 0)\; font-family: " times="">Special instructions for parking:&nbsp\;</strong><span color:="" font-feature-settings:="" font-kerning:="" font-optical-sizing:="" font-size-adjust:="" font-variation-settings:="" margin:="" new="" padding:="" style="border: 0px\; font-variant-numeric: inherit\; font-variant-east-asian: inherit\; font-variant-alternates: inherit\; font-variant-position: inherit\; font-stretch: inherit\; line-height: inherit\;" times="" vertical-align:="">Park\, do not scan the barcode to park\, just write down your license plate # and upon check to our event we will register you for free parking.&nbsp\;</span><br font-size:="" new="" style="color: rgb(0\, 0\, 0)\; font-family: " times="" />\n<br font-size:="" new="" style="color: rgb(0\, 0\, 0)\; font-family: " times="" />\n<span color:="" font-feature-settings:="" font-kerning:="" font-optical-sizing:="" font-size-adjust:="" font-variation-settings:="" margin:="" new="" padding:="" style="border: 0px\; font-variant-numeric: inherit\; font-variant-east-asian: inherit\; font-variant-alternates: inherit\; font-variant-position: inherit\; font-stretch: inherit\; line-height: inherit\;" times="" vertical-align:="">If you have any friends that can join you\, please share and be sure they register.&nbsp\;&nbsp\;</span><span color:="" font-feature-settings:="" font-kerning:="" font-optical-sizing:="" font-size-adjust:="" font-variation-settings:="" margin:="" new="" padding:="" style="border: 0px\; font-variant-numeric: inherit\; font-variant-east-asian: inherit\; font-variant-alternates: inherit\; font-variant-position: inherit\; font-stretch: inherit\; line-height: inherit\;" times="" vertical-align:="">If you know anyone willing to support our event through our raffle and can not make the event please share our raffle ($500 value -do not need to be present to win) link:&nbsp\;</span><a data-auth="NotApplicable" data-linkindex="1" font-feature-settings:="" font-kerning:="" font-optical-sizing:="" font-size-adjust:="" font-variation-settings:="" href="https://www.zeffy.com/en-US/ticketing/c260bcf6-f6ed-4865-bc63-ac1ccfe52ddc" margin:="" new="" padding:="" style="border: 0px\; font-variant-numeric: inherit\; font-variant-east-asian: inherit\; font-variant-alternates: inherit\; font-variant-position: inherit\; font-stretch: inherit\; font-size: medium\; line-height: inherit\; font-family: " times="" vertical-align:="">https://www.zeffy.com/en-US/ticketing/c260bcf6-f6ed-4865-bc63-ac1ccfe52ddc</a></span></span><br font-size:="" new="" style="color: rgb(0\, 0\, 0)\; font-family: " times="" />\n<br />\n<span style="color: rgb(36\, 36\, 36)\; font-family: &quot\;Segoe UI&quot\;\, &quot\;Segoe UI Web (West European)&quot\;\, -apple-system\, BlinkMacSystemFont\, Roboto\, &quot\;Helvetica Neue&quot\;\, sans-serif\; font-size: 15px\;">Anyone that may consider sponsoring our event - Here is the link.&nbsp\;</span><a data-auth="NotApplicable" data-linkindex="0" href="https://www.zeffy.com/ticketing/abba6e56-ef2f-4c1c-a8e8-25f163299ff0" style="border: 0px\; font-variant-numeric: inherit\; font-variant-east-asian: inherit\; font-variant-alternates: inherit\; font-variant-position: inherit\; font-stretch: inherit\; font-size: 15px\; line-height: inherit\; font-family: &quot\;Segoe UI&quot\;\, &quot\;Segoe UI Web (West European)&quot\;\, -apple-system\, BlinkMacSystemFont\, Roboto\, &quot\;Helvetica Neue&quot\;\, sans-serif\; font-optical-sizing: inherit\; font-size-adjust: inherit\; font-kerning: inherit\; font-feature-settings: inherit\; font-variation-settings: inherit\; margin: 0px\; padding: 0px\; vertical-align: baseline\;">https://www.zeffy.com/ticketing/abba6e56-ef2f-4c1c-a8e8-25f163299ff0</a></p>\n
LOCATION:424 Luna Bella Lane\, Ste 122 New Symrna Beach\, FL 32168
UID:e.2151.8297
SEQUENCE:3
DTSTAMP:20260423T071123Z
URL:https://business.pschamber.com/events/details/after-awareness-casino-night-fundraiser-8297
END:VEVENT

END:VCALENDAR
