BEGIN:VCALENDAR
VERSION:2.0
PRODID:-//ChamberMaster//Event Calendar 2.0//EN
METHOD:PUBLISH
X-PUBLISHED-TTL:P3D
REFRESH-INTERVAL:P3D
CALSCALE:GREGORIAN
BEGIN:VEVENT
DTSTART:20250111T150000Z
DTEND:20250111T190000Z
X-MICROSOFT-CDO-ALLDAYEVENT:FALSE
SUMMARY:Better Life Health & Business Expo 2025
DESCRIPTION:Don't miss the "Better Life Health & Business Expo"\, Saturday January 11th 10am-2pm\, at the Daytona Beach Shores Community Center! Businesses are invited to sign up for a table to meet and network with the public and other businesses.\n\nThe public is invited to come and browse this FREE event.\n\n\n\nLocal businesses\, restaurants\, products and services may reserve a booth space to participate by registering for this event.  Participating vendors are encouraged to provide demonstrations\, samples and handouts. \n\nNOTE:  No cooking (warmers for food samples are allowed)\n\n\n\nIndoor vendors will be provided an 8 ft table and 2 chairs\, cost is $ 50.00\n\nOutdoor vendors will be provided an 8 ft table and a tent\, the cost is $75.00\n\nTablecloths will not be provided.
X-ALT-DESC;FMTTYPE=text/html:Don&#39\;t miss the &quot\;Better Life Health &amp\; Business Expo&quot\;\, Saturday January 11th 10am-2pm\, at the Daytona Beach Shores Community Center! Businesses are invited to sign up for a table to meet and network with the public and other businesses.<br />\nThe public is invited to come and browse this <strong>FREE</strong> event.<br />\n<br />\nLocal businesses\, restaurants\, products and services may reserve a booth space to participate by registering for this event.&nbsp\; Participating vendors are encouraged to provide demonstrations\, samples and handouts.&nbsp\;<br />\nNOTE:&nbsp\; No cooking (warmers for food samples are allowed)<br />\n<br />\nIndoor vendors will be provided an 8 ft table and 2 chairs\, cost is $ 50.00<br />\nOutdoor vendors will be provided an 8 ft table and a tent\, the cost is&nbsp\;<span style="color: rgb(51\, 51\, 51)\; font-family: sans-serif\, Arial\, Verdana\, &quot\;Trebuchet MS&quot\;\; font-size: 13px\; background-color: rgb(255\, 255\, 255)\;">$75.00</span><br />\n<strong>Tablecloths will not be provided.</strong><br />\n&nbsp\;
LOCATION:Daytona Beach Shores Community Center 3000 Bellemead Drive Daytona Beach Shores
UID:e.2151.8217
SEQUENCE:3
DTSTAMP:20260422T225125Z
URL:https://business.pschamber.com/events/details/better-life-health-business-expo-2025-8217
END:VEVENT

END:VCALENDAR
