BEGIN:VCALENDAR
VERSION:2.0
PRODID:-//ChamberMaster//Event Calendar 2.0//EN
METHOD:PUBLISH
X-PUBLISHED-TTL:P3D
REFRESH-INTERVAL:P3D
CALSCALE:GREGORIAN
BEGIN:VEVENT
DTSTART:20260521T210000Z
DTEND:20260521T230000Z
X-MICROSOFT-CDO-ALLDAYEVENT:FALSE
SUMMARY:Business After Hours Daytona Tortugas
DESCRIPTION:Business After Hours is a premier evening networking event designed to connect professionals in a relaxed\, social setting. Hosted by a local business\, this event offers the opportunity to build relationships\, explore new partnerships\, and experience one of our member locations while enjoying light refreshments and meaningful conversation.
X-ALT-DESC;FMTTYPE=text/html:<span style="font-family: Lato\, sans-serif\; font-size: 16px\;">Business After Hours is a premier evening networking event designed to connect professionals in a relaxed\, social setting. Hosted by a local business\, this event offers the opportunity to build relationships\, explore new partnerships\, and experience one of our member locations while enjoying light refreshments and meaningful conversation.</span>&nbsp\;
LOCATION:
UID:e.2151.9417
SEQUENCE:3
DTSTAMP:20260419T170902Z
URL:https://business.pschamber.com/events/details/business-after-hours-daytona-tortugas-9417
END:VEVENT

END:VCALENDAR
