BEGIN:VCALENDAR
VERSION:2.0
PRODID:-//ChamberMaster//Event Calendar 2.0//EN
METHOD:PUBLISH
X-PUBLISHED-TTL:P3D
REFRESH-INTERVAL:P3D
CALSCALE:GREGORIAN
BEGIN:VEVENT
DTSTART:20241207T140000Z
DTEND:20241207T180000Z
X-MICROSOFT-CDO-ALLDAYEVENT:FALSE
SUMMARY:Dents & Wheels for Toys
DESCRIPTION:Get a dent or wheel damage on your car fixed in exchange for a toy (please no Dollar Tree toys). All toys will be donated to the local (Volusia) TOYS FOR TOTS. Certain Restrictions Apply: One dent on one panel\, up to 2" in diameter OR up to a 2" horizonal crease OR one alloy wheel with cosmetic damage up to 8" per toy. Vehicle will be inspected and approved prior to repair. Note: Repairs subject to accessibility. No broken paint can be present. Not available on composite material. Retail Value of Dent Removal: $225-299 Retail Value of Alloy Wheel Repair: $199-$299
X-ALT-DESC;FMTTYPE=text/html:Get a dent or wheel damage on your car fixed in exchange for a toy (please no Dollar Tree toys). All toys will be donated to the local (Volusia) TOYS FOR TOTS. Certain Restrictions Apply: One dent on one panel\, up to 2&rdquo\; in diameter OR up to a 2&rdquo\; horizonal crease OR one alloy wheel with cosmetic damage up to 8&rdquo\; per toy. Vehicle will be inspected and approved prior to repair. Note: Repairs subject to accessibility. No broken paint can be present. Not available on composite material. Retail Value of Dent Removal: $225-299 Retail Value of Alloy Wheel Repair: $199-$299
LOCATION:Fields BMW of Daytona 1050 N. Tomoka Farms Road Daytona Beach\, FL 32124
UID:e.2151.8357
SEQUENCE:3
DTSTAMP:20260423T052446Z
URL:https://business.pschamber.com/events/details/dents-wheels-for-toys-12-07-2024-8357
END:VEVENT

END:VCALENDAR
