BEGIN:VCALENDAR
VERSION:2.0
PRODID:-//ChamberMaster//Event Calendar 2.0//EN
METHOD:PUBLISH
X-PUBLISHED-TTL:P3D
REFRESH-INTERVAL:P3D
CALSCALE:GREGORIAN
BEGIN:VEVENT
DTSTART;VALUE=DATE:20241205
DTEND;VALUE=DATE:20241220
TRANSP:TRANSPARENT
X-MICROSOFT-CDO-ALLDAYEVENT:TRUE
SUMMARY:Pet Food & Toy Drive
DESCRIPTION:The Addison of Port Orange is hosting a holiday food and toy drive benefiting the Halifax Humane Society. Please drop off your donations now through December 19th.
X-ALT-DESC;FMTTYPE=text/html:The Addison of Port Orange is hosting a holiday food and toy drive benefiting the Halifax Humane Society. Please drop off your donations now through December 19th.
LOCATION:The Addison of Port Orange 812 Airport Rd. Port Orange\, FL 32128
UID:e.2151.8369
SEQUENCE:3
DTSTAMP:20260423T052340Z
URL:https://business.pschamber.com/events/details/pet-food-toy-drive-8369
END:VEVENT

END:VCALENDAR
