BEGIN:VCALENDAR
VERSION:2.0
PRODID:-//ChamberMaster//Event Calendar 2.0//EN
METHOD:PUBLISH
X-PUBLISHED-TTL:P3D
REFRESH-INTERVAL:P3D
CALSCALE:GREGORIAN
BEGIN:VEVENT
DTSTART:20241205T190000Z
DTEND:20241205T200000Z
X-MICROSOFT-CDO-ALLDAYEVENT:FALSE
SUMMARY:Ribbon Cutting - Bounce and Bang Fitness
DESCRIPTION:Join us in celebrating with Bounce and Bang Fitness!
X-ALT-DESC;FMTTYPE=text/html:<div class="xdj266r x11i5rnm xat24cr x1mh8g0r x1vvkbs" style="margin: 0px\; overflow-wrap: break-word\; font-family: &quot\;Segoe UI Historic&quot\;\, &quot\;Segoe UI&quot\;\, Helvetica\, Arial\, sans-serif\; color: rgb(5\, 5\, 5)\; font-size: 15px\;">Join us in celebrating with Bounce and Bang Fitness!<br />\n&nbsp\;</div>\n
LOCATION:4645 S. Clyde Morris Blvd\, Ste 405 Port Orange\, FL 32129
UID:e.2151.8295
SEQUENCE:3
DTSTAMP:20260423T034803Z
URL:https://business.pschamber.com/events/details/ribbon-cutting-bounce-and-bang-fitness-8295
END:VEVENT

END:VCALENDAR
