BEGIN:VCALENDAR
VERSION:2.0
PRODID:-//ChamberMaster//Event Calendar 2.0//EN
METHOD:PUBLISH
X-PUBLISHED-TTL:P3D
REFRESH-INTERVAL:P3D
CALSCALE:GREGORIAN
BEGIN:VEVENT
DTSTART:20250522T140000Z
DTEND:20250522T150000Z
X-MICROSOFT-CDO-ALLDAYEVENT:FALSE
SUMMARY:Ribbon Cutting - Splash Salon
DESCRIPTION:Join us to celebrate this monumental moment with Splash Salon!
X-ALT-DESC;FMTTYPE=text/html:Join us to celebrate this monumental moment with Splash Salon!&nbsp\;&nbsp\;&nbsp\;&nbsp\;&nbsp\;&nbsp\;&nbsp\;&nbsp\;&nbsp\;&nbsp\;&nbsp\;&nbsp\;
LOCATION:3751 Clyde Morris Blvd\, Ste 3&4 Port Orange\, FL 32129
UID:e.2151.8490
SEQUENCE:3
DTSTAMP:20260420T084406Z
URL:https://business.pschamber.com/events/details/ribbon-cutting-splash-salon-8490
END:VEVENT

END:VCALENDAR
