BEGIN:VCALENDAR
VERSION:2.0
PRODID:-//ChamberMaster//Event Calendar 2.0//EN
METHOD:PUBLISH
X-PUBLISHED-TTL:P3D
REFRESH-INTERVAL:P3D
CALSCALE:GREGORIAN
BEGIN:VEVENT
DTSTART:20260321T130000Z
DTEND:20260321T180000Z
X-MICROSOFT-CDO-ALLDAYEVENT:FALSE
SUMMARY:VFW 3282 Aux Spring Craft Show
DESCRIPTION:VFW 3282 Auxiliary Spring Craft Fair - Come Have Some Fun! You are invited to the VFW 3282 Auxiliary Spring Craft Fair on Saturday\, March 21\, from 9:00 AM to 2:00 PM at VFW 3282\, 5810 S. Williamson Blvd\, Port Orange. Join us for a fun day of shopping and discovery with over 30 talented crafters showcasing beautiful handmade items for spring and summer. You can also participate in a 50/50 raffle and try your luck on themed gift baskets. Delicious homemade food prepared by our Auxiliary members will be available for purchase. Best of all\, 100% of Auxiliary proceeds for this event will be donated to Old Glory Service Dogs for Veterans\, a nonprofit that trains and provides service dogs to Military Veterans\, Law Enforcement\, Fire\, and EMS personnel to help them reclaim their independence. Bring your friends and family\, do some shopping\, enjoy great food\, and help us support our Veterans. We hope to see you there!
X-ALT-DESC;FMTTYPE=text/html:VFW 3282 Auxiliary Spring Craft Fair - Come Have Some Fun! You are invited to the VFW 3282 Auxiliary Spring Craft Fair on Saturday\, March 21\, from 9:00 AM to 2:00 PM at VFW 3282\, 5810 S. Williamson Blvd\, Port Orange. Join us for a fun day of shopping and discovery with over 30 talented crafters showcasing beautiful handmade items for spring and summer. You can also participate in a 50/50 raffle and try your luck on themed gift baskets. Delicious homemade food prepared by our Auxiliary members will be available for purchase. Best of all\, 100% of Auxiliary proceeds for this event will be donated to Old Glory Service Dogs for Veterans\, a nonprofit that trains and provides service dogs to Military Veterans\, Law Enforcement\, Fire\, and EMS personnel to help them reclaim their independence. Bring your friends and family\, do some shopping\, enjoy great food\, and help us support our Veterans. We hope to see you there!
LOCATION:VFW 3282\, 5810 S. Williamson Blvd\, Port Orange
UID:e.2151.9361
SEQUENCE:3
DTSTAMP:20260419T131420Z
URL:https://business.pschamber.com/events/details/vfw-3282-aux-spring-craft-show-9361
END:VEVENT

END:VCALENDAR
